BEGIN:VCALENDAR
VERSION:2.0
PRODID:-//McCreary’s Hospitality - ECPv6.15.20//NONSGML v1.0//EN
CALSCALE:GREGORIAN
METHOD:PUBLISH
X-WR-CALNAME:McCreary’s Hospitality
X-ORIGINAL-URL:https://www.mccrearyshospitality.com
X-WR-CALDESC:Events for McCreary’s Hospitality
REFRESH-INTERVAL;VALUE=DURATION:PT1H
X-Robots-Tag:noindex
X-PUBLISHED-TTL:PT1H
BEGIN:VTIMEZONE
TZID:UTC
BEGIN:STANDARD
TZOFFSETFROM:+0000
TZOFFSETTO:+0000
TZNAME:UTC
DTSTART:20260101T000000
END:STANDARD
END:VTIMEZONE
BEGIN:VEVENT
DTSTART;VALUE=DATE:20271102
DTEND;VALUE=DATE:20271103
DTSTAMP:20260423T152225
CREATED:20251102T210047Z
LAST-MODIFIED:20260416T204943Z
UID:1750-1825113600-1825199999@www.mccrearyshospitality.com
SUMMARY:Election Day
DESCRIPTION:Observance\nTo hide observances\, go to Google Calendar Settings > Holidays in United States
URL:https://www.mccrearyshospitality.com/event/election-day-3/
CATEGORIES:Holiday
END:VEVENT
BEGIN:VEVENT
DTSTART;VALUE=DATE:20271107
DTEND;VALUE=DATE:20271108
DTSTAMP:20260423T152225
CREATED:20251107T212357Z
LAST-MODIFIED:20260416T204943Z
UID:1773-1825545600-1825631999@www.mccrearyshospitality.com
SUMMARY:Daylight Saving Time ends
DESCRIPTION:Observance\nTo hide observances\, go to Google Calendar Settings > Holidays in United States
URL:https://www.mccrearyshospitality.com/event/daylight-saving-time-ends-3/
CATEGORIES:Holiday
END:VEVENT
BEGIN:VEVENT
DTSTART;VALUE=DATE:20271111
DTEND;VALUE=DATE:20271112
DTSTAMP:20260423T152225
CREATED:20251111T214554Z
LAST-MODIFIED:20260416T204943Z
UID:1790-1825891200-1825977599@www.mccrearyshospitality.com
SUMMARY:Veterans Day
DESCRIPTION:Public holiday
URL:https://www.mccrearyshospitality.com/event/veterans-day-3/
CATEGORIES:Holiday
END:VEVENT
BEGIN:VEVENT
DTSTART;VALUE=DATE:20271125
DTEND;VALUE=DATE:20271126
DTSTAMP:20260423T152225
CREATED:20251125T210203Z
LAST-MODIFIED:20260416T204943Z
UID:1844-1827100800-1827187199@www.mccrearyshospitality.com
SUMMARY:Thanksgiving Day
DESCRIPTION:Public holiday
URL:https://www.mccrearyshospitality.com/event/thanksgiving-day-3/
CATEGORIES:Holiday
END:VEVENT
BEGIN:VEVENT
DTSTART;VALUE=DATE:20271126
DTEND;VALUE=DATE:20271127
DTSTAMP:20260423T152225
CREATED:20251126T210318Z
LAST-MODIFIED:20260416T204943Z
UID:1849-1827187200-1827273599@www.mccrearyshospitality.com
SUMMARY:Black Friday
DESCRIPTION:Observance\nTo hide observances\, go to Google Calendar Settings > Holidays in United States
URL:https://www.mccrearyshospitality.com/event/black-friday-3/
CATEGORIES:Holiday
END:VEVENT
BEGIN:VEVENT
DTSTART;VALUE=DATE:20271224
DTEND;VALUE=DATE:20271225
DTSTAMP:20260423T152225
CREATED:20251224T213118Z
LAST-MODIFIED:20260416T204943Z
UID:1948-1829606400-1829692799@www.mccrearyshospitality.com
SUMMARY:Christmas Day (substitute)
DESCRIPTION:Public holiday
URL:https://www.mccrearyshospitality.com/event/christmas-day-substitute/
CATEGORIES:Holiday
END:VEVENT
BEGIN:VEVENT
DTSTART;VALUE=DATE:20271224
DTEND;VALUE=DATE:20271225
DTSTAMP:20260423T152225
CREATED:20251224T213119Z
LAST-MODIFIED:20260416T204943Z
UID:1949-1829606400-1829692799@www.mccrearyshospitality.com
SUMMARY:Christmas Eve
DESCRIPTION:Observance\nTo hide observances\, go to Google Calendar Settings > Holidays in United States
URL:https://www.mccrearyshospitality.com/event/christmas-eve-3/
CATEGORIES:Holiday
END:VEVENT
BEGIN:VEVENT
DTSTART;VALUE=DATE:20271225
DTEND;VALUE=DATE:20271226
DTSTAMP:20260423T152225
CREATED:20251225T213051Z
LAST-MODIFIED:20260416T204943Z
UID:1953-1829692800-1829779199@www.mccrearyshospitality.com
SUMMARY:Christmas Day
DESCRIPTION:Public holiday
URL:https://www.mccrearyshospitality.com/event/christmas-day-3/
CATEGORIES:Holiday
END:VEVENT
BEGIN:VEVENT
DTSTART;VALUE=DATE:20271231
DTEND;VALUE=DATE:20280101
DTSTAMP:20260423T152225
CREATED:20251231T213102Z
LAST-MODIFIED:20260416T204943Z
UID:1979-1830211200-1830297599@www.mccrearyshospitality.com
SUMMARY:New Year's Day (substitute)
DESCRIPTION:Public holiday
URL:https://www.mccrearyshospitality.com/event/new-years-day-substitute/
CATEGORIES:Holiday
END:VEVENT
BEGIN:VEVENT
DTSTART;VALUE=DATE:20271231
DTEND;VALUE=DATE:20280101
DTSTAMP:20260423T152225
CREATED:20251231T213102Z
LAST-MODIFIED:20260416T204943Z
UID:1980-1830211200-1830297599@www.mccrearyshospitality.com
SUMMARY:New Year's Eve
DESCRIPTION:Observance\nTo hide observances\, go to Google Calendar Settings > Holidays in United States
URL:https://www.mccrearyshospitality.com/event/new-years-eve-3/
CATEGORIES:Holiday
END:VEVENT
BEGIN:VEVENT
DTSTART;VALUE=DATE:20280101
DTEND;VALUE=DATE:20280102
DTSTAMP:20260423T152225
CREATED:20260101T213736Z
LAST-MODIFIED:20260416T204943Z
UID:1989-1830297600-1830383999@www.mccrearyshospitality.com
SUMMARY:New Year's Day
DESCRIPTION:Public holiday
URL:https://www.mccrearyshospitality.com/event/new-years-day-3/
CATEGORIES:Holiday
END:VEVENT
BEGIN:VEVENT
DTSTART;VALUE=DATE:20280117
DTEND;VALUE=DATE:20280118
DTSTAMP:20260423T152225
CREATED:20260117T230352Z
LAST-MODIFIED:20260416T204943Z
UID:2044-1831680000-1831766399@www.mccrearyshospitality.com
SUMMARY:Martin Luther King Jr. Day
DESCRIPTION:Public holiday
URL:https://www.mccrearyshospitality.com/event/martin-luther-king-jr-day-3/
CATEGORIES:Holiday
END:VEVENT
BEGIN:VEVENT
DTSTART;VALUE=DATE:20280214
DTEND;VALUE=DATE:20280215
DTSTAMP:20260423T152225
CREATED:20260214T214624Z
LAST-MODIFIED:20260416T204943Z
UID:2146-1834099200-1834185599@www.mccrearyshospitality.com
SUMMARY:Valentine's Day
DESCRIPTION:Observance\nTo hide observances\, go to Google Calendar Settings > Holidays in United States
URL:https://www.mccrearyshospitality.com/event/valentines-day-3/
CATEGORIES:Holiday
END:VEVENT
BEGIN:VEVENT
DTSTART;VALUE=DATE:20280221
DTEND;VALUE=DATE:20280222
DTSTAMP:20260423T152225
CREATED:20260221T222226Z
LAST-MODIFIED:20260224T224816Z
UID:2170-1834704000-1834790399@www.mccrearyshospitality.com
SUMMARY:Presidents' Day
DESCRIPTION:Public holiday
URL:https://www.mccrearyshospitality.com/event/presidents-day-3/
CATEGORIES:Holiday
END:VEVENT
BEGIN:VEVENT
DTSTART;VALUE=DATE:20280221
DTEND;VALUE=DATE:20280222
DTSTAMP:20260423T152225
CREATED:20260225T224542Z
LAST-MODIFIED:20260416T204943Z
UID:2185-1834704000-1834790399@www.mccrearyshospitality.com
SUMMARY:Presidents’ Day
DESCRIPTION:Public holiday
URL:https://www.mccrearyshospitality.com/event/presidents-day-5/
CATEGORIES:Holiday
END:VEVENT
BEGIN:VEVENT
DTSTART;VALUE=DATE:20280312
DTEND;VALUE=DATE:20280313
DTSTAMP:20260423T152225
CREATED:20260312T234705Z
LAST-MODIFIED:20260416T204943Z
UID:2244-1836432000-1836518399@www.mccrearyshospitality.com
SUMMARY:Daylight Saving Time starts
DESCRIPTION:Observance\nTo hide observances\, go to Google Calendar Settings > Holidays in United States
URL:https://www.mccrearyshospitality.com/event/daylight-saving-time-starts-3/
CATEGORIES:Holiday
END:VEVENT
BEGIN:VEVENT
DTSTART;VALUE=DATE:20280317
DTEND;VALUE=DATE:20280318
DTSTAMP:20260423T152225
CREATED:20260317T203758Z
LAST-MODIFIED:20260416T204943Z
UID:2260-1836864000-1836950399@www.mccrearyshospitality.com
SUMMARY:St. Patrick's Day
DESCRIPTION:Observance\nTo hide observances\, go to Google Calendar Settings > Holidays in United States
URL:https://www.mccrearyshospitality.com/event/st-patricks-day-3/
CATEGORIES:Holiday
END:VEVENT
BEGIN:VEVENT
DTSTART;VALUE=DATE:20280416
DTEND;VALUE=DATE:20280417
DTSTAMP:20260423T152225
CREATED:20260416T204943Z
LAST-MODIFIED:20260416T204943Z
UID:2341-1839456000-1839542399@www.mccrearyshospitality.com
SUMMARY:Easter Sunday
DESCRIPTION:Observance\nTo hide observances\, go to Google Calendar Settings > Holidays in United States
URL:https://www.mccrearyshospitality.com/event/easter-sunday-3/
CATEGORIES:Holiday
END:VEVENT
END:VCALENDAR