BEGIN:VCALENDAR
VERSION:2.0
PRODID:-//McCreary’s Hospitality - ECPv6.15.20//NONSGML v1.0//EN
CALSCALE:GREGORIAN
METHOD:PUBLISH
X-ORIGINAL-URL:https://www.mccrearyshospitality.com
X-WR-CALDESC:Events for McCreary’s Hospitality
REFRESH-INTERVAL;VALUE=DURATION:PT1H
X-Robots-Tag:noindex
X-PUBLISHED-TTL:PT1H
BEGIN:VTIMEZONE
TZID:UTC
BEGIN:STANDARD
TZOFFSETFROM:+0000
TZOFFSETTO:+0000
TZNAME:UTC
DTSTART:20240101T000000
END:STANDARD
END:VTIMEZONE
BEGIN:VEVENT
DTSTART;VALUE=DATE:20260415
DTEND;VALUE=DATE:20260416
DTSTAMP:20260425T054516
CREATED:20250828T011818Z
LAST-MODIFIED:20260415T204818Z
UID:1542-1776211200-1776297599@www.mccrearyshospitality.com
SUMMARY:Tax Day
DESCRIPTION:Observance\nTo hide observances\, go to Google Calendar Settings > Holidays in United States
URL:https://www.mccrearyshospitality.com/event/tax-day/
CATEGORIES:Holiday
END:VEVENT
BEGIN:VEVENT
DTSTART;VALUE=DATE:20260406
DTEND;VALUE=DATE:20260407
DTSTAMP:20260425T054516
CREATED:20250828T011817Z
LAST-MODIFIED:20260406T224651Z
UID:1541-1775433600-1775519999@www.mccrearyshospitality.com
SUMMARY:Easter Monday
DESCRIPTION:Observance\nTo hide observances\, go to Google Calendar Settings > Holidays in United States
URL:https://www.mccrearyshospitality.com/event/easter-monday/
CATEGORIES:Holiday
END:VEVENT
BEGIN:VEVENT
DTSTART;VALUE=DATE:20260405
DTEND;VALUE=DATE:20260406
DTSTAMP:20260425T054516
CREATED:20250828T011817Z
LAST-MODIFIED:20260405T223621Z
UID:1540-1775347200-1775433599@www.mccrearyshospitality.com
SUMMARY:Easter Sunday
DESCRIPTION:Observance\nTo hide observances\, go to Google Calendar Settings > Holidays in United States
URL:https://www.mccrearyshospitality.com/event/easter-sunday/
CATEGORIES:Holiday
END:VEVENT
BEGIN:VEVENT
DTSTART;VALUE=DATE:20260317
DTEND;VALUE=DATE:20260318
DTSTAMP:20260425T054516
CREATED:20250828T011817Z
LAST-MODIFIED:20260317T203757Z
UID:1539-1773705600-1773791999@www.mccrearyshospitality.com
SUMMARY:St. Patrick's Day
DESCRIPTION:Observance\nTo hide observances\, go to Google Calendar Settings > Holidays in United States
URL:https://www.mccrearyshospitality.com/event/st-patricks-day/
CATEGORIES:Holiday
END:VEVENT
BEGIN:VEVENT
DTSTART;VALUE=DATE:20260308
DTEND;VALUE=DATE:20260309
DTSTAMP:20260425T054516
CREATED:20250828T011816Z
LAST-MODIFIED:20260308T231510Z
UID:1538-1772928000-1773014399@www.mccrearyshospitality.com
SUMMARY:Daylight Saving Time starts
DESCRIPTION:Observance\nTo hide observances\, go to Google Calendar Settings > Holidays in United States
URL:https://www.mccrearyshospitality.com/event/daylight-saving-time-starts/
CATEGORIES:Holiday
END:VEVENT
BEGIN:VEVENT
DTSTART;VALUE=DATE:20260216
DTEND;VALUE=DATE:20260217
DTSTAMP:20260425T054516
CREATED:20250828T011816Z
LAST-MODIFIED:20260216T214712Z
UID:1537-1771200000-1771286399@www.mccrearyshospitality.com
SUMMARY:Presidents' Day
DESCRIPTION:Public holiday
URL:https://www.mccrearyshospitality.com/event/presidents-day/
CATEGORIES:Holiday
END:VEVENT
BEGIN:VEVENT
DTSTART;VALUE=DATE:20260214
DTEND;VALUE=DATE:20260215
DTSTAMP:20260425T054516
CREATED:20250828T011816Z
LAST-MODIFIED:20260214T214623Z
UID:1536-1771027200-1771113599@www.mccrearyshospitality.com
SUMMARY:Valentine's Day
DESCRIPTION:Observance\nTo hide observances\, go to Google Calendar Settings > Holidays in United States
URL:https://www.mccrearyshospitality.com/event/valentines-day/
CATEGORIES:Holiday
END:VEVENT
BEGIN:VEVENT
DTSTART;VALUE=DATE:20260119
DTEND;VALUE=DATE:20260120
DTSTAMP:20260425T054516
CREATED:20250828T011816Z
LAST-MODIFIED:20260119T230355Z
UID:1535-1768780800-1768867199@www.mccrearyshospitality.com
SUMMARY:Martin Luther King Jr. Day
DESCRIPTION:Public holiday
URL:https://www.mccrearyshospitality.com/event/martin-luther-king-jr-day/
CATEGORIES:Holiday
END:VEVENT
BEGIN:VEVENT
DTSTART;VALUE=DATE:20260101
DTEND;VALUE=DATE:20260102
DTSTAMP:20260425T054516
CREATED:20250828T011815Z
LAST-MODIFIED:20260101T213735Z
UID:1533-1767225600-1767311999@www.mccrearyshospitality.com
SUMMARY:New Year's Day
DESCRIPTION:Public holiday
URL:https://www.mccrearyshospitality.com/event/new-years-day/
CATEGORIES:Holiday
END:VEVENT
BEGIN:VEVENT
DTSTART;VALUE=DATE:20251231
DTEND;VALUE=DATE:20260101
DTSTAMP:20260425T054516
CREATED:20250828T011815Z
LAST-MODIFIED:20251231T213059Z
UID:1534-1767139200-1767225599@www.mccrearyshospitality.com
SUMMARY:New Year's Eve
DESCRIPTION:Observance\nTo hide observances\, go to Google Calendar Settings > Holidays in United States
URL:https://www.mccrearyshospitality.com/event/new-years-eve/
CATEGORIES:Holiday
END:VEVENT
BEGIN:VEVENT
DTSTART;VALUE=DATE:20251225
DTEND;VALUE=DATE:20251226
DTSTAMP:20260425T054516
CREATED:20250828T011812Z
LAST-MODIFIED:20251225T213049Z
UID:1532-1766620800-1766707199@www.mccrearyshospitality.com
SUMMARY:Christmas Day
DESCRIPTION:Public holiday
URL:https://www.mccrearyshospitality.com/event/christmas-day/
CATEGORIES:Holiday
END:VEVENT
BEGIN:VEVENT
DTSTART;VALUE=DATE:20251224
DTEND;VALUE=DATE:20251225
DTSTAMP:20260425T054516
CREATED:20250828T011812Z
LAST-MODIFIED:20251224T213116Z
UID:1531-1766534400-1766620799@www.mccrearyshospitality.com
SUMMARY:Christmas Eve
DESCRIPTION:Observance\nTo hide observances\, go to Google Calendar Settings > Holidays in United States
URL:https://www.mccrearyshospitality.com/event/christmas-eve/
CATEGORIES:Holiday
END:VEVENT
BEGIN:VEVENT
DTSTART;VALUE=DATE:20251128
DTEND;VALUE=DATE:20251129
DTSTAMP:20260425T054516
CREATED:20250828T011812Z
LAST-MODIFIED:20251128T213420Z
UID:1530-1764288000-1764374399@www.mccrearyshospitality.com
SUMMARY:Black Friday
DESCRIPTION:Observance\nTo hide observances\, go to Google Calendar Settings > Holidays in United States
URL:https://www.mccrearyshospitality.com/event/black-friday/
CATEGORIES:Holiday
END:VEVENT
BEGIN:VEVENT
DTSTART;VALUE=DATE:20251127
DTEND;VALUE=DATE:20251128
DTSTAMP:20260425T054516
CREATED:20250828T011812Z
LAST-MODIFIED:20251127T211155Z
UID:1529-1764201600-1764287999@www.mccrearyshospitality.com
SUMMARY:Thanksgiving Day
DESCRIPTION:Public holiday
URL:https://www.mccrearyshospitality.com/event/thanksgiving-day/
CATEGORIES:Holiday
END:VEVENT
BEGIN:VEVENT
DTSTART;VALUE=DATE:20251111
DTEND;VALUE=DATE:20251112
DTSTAMP:20260425T054516
CREATED:20250828T011812Z
LAST-MODIFIED:20251111T214552Z
UID:1528-1762819200-1762905599@www.mccrearyshospitality.com
SUMMARY:Veterans Day
DESCRIPTION:Public holiday
URL:https://www.mccrearyshospitality.com/event/veterans-day/
CATEGORIES:Holiday
END:VEVENT
BEGIN:VEVENT
DTSTART;VALUE=DATE:20251104
DTEND;VALUE=DATE:20251105
DTSTAMP:20260425T054516
CREATED:20250828T011812Z
LAST-MODIFIED:20251104T210143Z
UID:1527-1762214400-1762300799@www.mccrearyshospitality.com
SUMMARY:Election Day
DESCRIPTION:Observance\nTo hide observances\, go to Google Calendar Settings > Holidays in United States
URL:https://www.mccrearyshospitality.com/event/election-day/
CATEGORIES:Holiday
END:VEVENT
BEGIN:VEVENT
DTSTART;VALUE=DATE:20251102
DTEND;VALUE=DATE:20251103
DTSTAMP:20260425T054516
CREATED:20250828T011812Z
LAST-MODIFIED:20251102T210047Z
UID:1526-1762041600-1762127999@www.mccrearyshospitality.com
SUMMARY:Daylight Saving Time ends
DESCRIPTION:Observance\nTo hide observances\, go to Google Calendar Settings > Holidays in United States
URL:https://www.mccrearyshospitality.com/event/daylight-saving-time-ends/
CATEGORIES:Holiday
END:VEVENT
BEGIN:VEVENT
DTSTART;VALUE=DATE:20251031
DTEND;VALUE=DATE:20251101
DTSTAMP:20260425T054516
CREATED:20250828T011812Z
LAST-MODIFIED:20251031T210012Z
UID:1525-1761868800-1761955199@www.mccrearyshospitality.com
SUMMARY:Halloween
DESCRIPTION:Observance\nTo hide observances\, go to Google Calendar Settings > Holidays in United States
URL:https://www.mccrearyshospitality.com/event/halloween/
CATEGORIES:Holiday
END:VEVENT
BEGIN:VEVENT
DTSTART;VALUE=DATE:20251013
DTEND;VALUE=DATE:20251014
DTSTAMP:20260425T054516
CREATED:20250828T011812Z
LAST-MODIFIED:20251001T033409Z
UID:1524-1760313600-1760399999@www.mccrearyshospitality.com
SUMMARY:Columbus Day
DESCRIPTION:Public holiday
URL:https://www.mccrearyshospitality.com/event/columbus-day/
CATEGORIES:Holiday
END:VEVENT
BEGIN:VEVENT
DTSTART;VALUE=DATE:20250901
DTEND;VALUE=DATE:20250902
DTSTAMP:20260425T054516
CREATED:20250828T011812Z
LAST-MODIFIED:20250828T012015Z
UID:1523-1756684800-1756771199@www.mccrearyshospitality.com
SUMMARY:Labor Day
DESCRIPTION:Public holiday
URL:https://www.mccrearyshospitality.com/event/labor-day/
CATEGORIES:Holiday
END:VEVENT
END:VCALENDAR