BEGIN:VCALENDAR
VERSION:2.0
PRODID:-//McCreary’s Hospitality - ECPv6.15.20//NONSGML v1.0//EN
CALSCALE:GREGORIAN
METHOD:PUBLISH
X-WR-CALNAME:McCreary’s Hospitality
X-ORIGINAL-URL:https://www.mccrearyshospitality.com
X-WR-CALDESC:Events for McCreary’s Hospitality
REFRESH-INTERVAL;VALUE=DURATION:PT1H
X-Robots-Tag:noindex
X-PUBLISHED-TTL:PT1H
BEGIN:VTIMEZONE
TZID:America/Chicago
BEGIN:DAYLIGHT
TZOFFSETFROM:-0600
TZOFFSETTO:-0500
TZNAME:CDT
DTSTART:20250309T080000
END:DAYLIGHT
BEGIN:STANDARD
TZOFFSETFROM:-0500
TZOFFSETTO:-0600
TZNAME:CST
DTSTART:20251102T070000
END:STANDARD
BEGIN:DAYLIGHT
TZOFFSETFROM:-0600
TZOFFSETTO:-0500
TZNAME:CDT
DTSTART:20260308T080000
END:DAYLIGHT
BEGIN:STANDARD
TZOFFSETFROM:-0500
TZOFFSETTO:-0600
TZNAME:CST
DTSTART:20261101T070000
END:STANDARD
BEGIN:DAYLIGHT
TZOFFSETFROM:-0600
TZOFFSETTO:-0500
TZNAME:CDT
DTSTART:20270314T080000
END:DAYLIGHT
BEGIN:STANDARD
TZOFFSETFROM:-0500
TZOFFSETTO:-0600
TZNAME:CST
DTSTART:20271107T070000
END:STANDARD
BEGIN:DAYLIGHT
TZOFFSETFROM:-0600
TZOFFSETTO:-0500
TZNAME:CDT
DTSTART:20280312T080000
END:DAYLIGHT
BEGIN:STANDARD
TZOFFSETFROM:-0500
TZOFFSETTO:-0600
TZNAME:CST
DTSTART:20281105T070000
END:STANDARD
END:VTIMEZONE
BEGIN:VEVENT
DTSTART;TZID=America/Chicago:20261119T115500
DTEND;TZID=America/Chicago:20261119T121000
DTSTAMP:20260425T113707
CREATED:20250828T011425Z
LAST-MODIFIED:20260319T014658Z
UID:1475-1795089300-1795090200@www.mccrearyshospitality.com
SUMMARY:Morton
DESCRIPTION:
URL:https://www.mccrearyshospitality.com/event/morton-65/
CATEGORIES:Catering
END:VEVENT
BEGIN:VEVENT
DTSTART;TZID=America/Chicago:20261126T115500
DTEND;TZID=America/Chicago:20261126T121000
DTSTAMP:20260425T113707
CREATED:20250828T011425Z
LAST-MODIFIED:20260319T014658Z
UID:1476-1795694100-1795695000@www.mccrearyshospitality.com
SUMMARY:Morton
DESCRIPTION:
URL:https://www.mccrearyshospitality.com/event/morton-66/
CATEGORIES:Catering
END:VEVENT
BEGIN:VEVENT
DTSTART;TZID=America/Chicago:20261203T115500
DTEND;TZID=America/Chicago:20261203T121000
DTSTAMP:20260425T113707
CREATED:20250828T011425Z
LAST-MODIFIED:20260319T014658Z
UID:1477-1796298900-1796299800@www.mccrearyshospitality.com
SUMMARY:Morton
DESCRIPTION:
URL:https://www.mccrearyshospitality.com/event/morton-67/
CATEGORIES:Catering
END:VEVENT
BEGIN:VEVENT
DTSTART;TZID=America/Chicago:20261210T115500
DTEND;TZID=America/Chicago:20261210T121000
DTSTAMP:20260425T113707
CREATED:20250828T011425Z
LAST-MODIFIED:20260319T014658Z
UID:1478-1796903700-1796904600@www.mccrearyshospitality.com
SUMMARY:Morton
DESCRIPTION:
URL:https://www.mccrearyshospitality.com/event/morton-68/
CATEGORIES:Catering
END:VEVENT
BEGIN:VEVENT
DTSTART;TZID=America/Chicago:20261217T115500
DTEND;TZID=America/Chicago:20261217T121000
DTSTAMP:20260425T113707
CREATED:20250828T011425Z
LAST-MODIFIED:20260319T014658Z
UID:1479-1797508500-1797509400@www.mccrearyshospitality.com
SUMMARY:Morton
DESCRIPTION:
URL:https://www.mccrearyshospitality.com/event/morton-69/
CATEGORIES:Catering
END:VEVENT
BEGIN:VEVENT
DTSTART;TZID=America/Chicago:20261224T115500
DTEND;TZID=America/Chicago:20261224T121000
DTSTAMP:20260425T113707
CREATED:20250828T011425Z
LAST-MODIFIED:20260319T014658Z
UID:1480-1798113300-1798114200@www.mccrearyshospitality.com
SUMMARY:Morton
DESCRIPTION:
URL:https://www.mccrearyshospitality.com/event/morton-70/
CATEGORIES:Catering
END:VEVENT
BEGIN:VEVENT
DTSTART;TZID=America/Chicago:20261231T115500
DTEND;TZID=America/Chicago:20261231T121000
DTSTAMP:20260425T113707
CREATED:20250828T011425Z
LAST-MODIFIED:20260319T014658Z
UID:1481-1798718100-1798719000@www.mccrearyshospitality.com
SUMMARY:Morton
DESCRIPTION:
URL:https://www.mccrearyshospitality.com/event/morton-71/
CATEGORIES:Catering
END:VEVENT
BEGIN:VEVENT
DTSTART;TZID=America/Chicago:20270107T115500
DTEND;TZID=America/Chicago:20270107T121000
DTSTAMP:20260425T113707
CREATED:20250828T011426Z
LAST-MODIFIED:20260319T014658Z
UID:1482-1799322900-1799323800@www.mccrearyshospitality.com
SUMMARY:Morton
DESCRIPTION:
URL:https://www.mccrearyshospitality.com/event/morton-72/
CATEGORIES:Catering
END:VEVENT
BEGIN:VEVENT
DTSTART;TZID=America/Chicago:20270114T115500
DTEND;TZID=America/Chicago:20270114T121000
DTSTAMP:20260425T113707
CREATED:20250828T011426Z
LAST-MODIFIED:20260319T014658Z
UID:1483-1799927700-1799928600@www.mccrearyshospitality.com
SUMMARY:Morton
DESCRIPTION:
URL:https://www.mccrearyshospitality.com/event/morton-73/
CATEGORIES:Catering
END:VEVENT
BEGIN:VEVENT
DTSTART;TZID=America/Chicago:20270121T115500
DTEND;TZID=America/Chicago:20270121T121000
DTSTAMP:20260425T113707
CREATED:20250828T011426Z
LAST-MODIFIED:20260319T014658Z
UID:1484-1800532500-1800533400@www.mccrearyshospitality.com
SUMMARY:Morton
DESCRIPTION:
URL:https://www.mccrearyshospitality.com/event/morton-74/
CATEGORIES:Catering
END:VEVENT
BEGIN:VEVENT
DTSTART;TZID=America/Chicago:20270128T115500
DTEND;TZID=America/Chicago:20270128T121000
DTSTAMP:20260425T113707
CREATED:20250828T011426Z
LAST-MODIFIED:20260319T014658Z
UID:1485-1801137300-1801138200@www.mccrearyshospitality.com
SUMMARY:Morton
DESCRIPTION:
URL:https://www.mccrearyshospitality.com/event/morton-75/
CATEGORIES:Catering
END:VEVENT
BEGIN:VEVENT
DTSTART;TZID=America/Chicago:20270204T115500
DTEND;TZID=America/Chicago:20270204T121000
DTSTAMP:20260425T113707
CREATED:20250828T011426Z
LAST-MODIFIED:20260319T014658Z
UID:1486-1801742100-1801743000@www.mccrearyshospitality.com
SUMMARY:Morton
DESCRIPTION:
URL:https://www.mccrearyshospitality.com/event/morton-76/
CATEGORIES:Catering
END:VEVENT
BEGIN:VEVENT
DTSTART;TZID=America/Chicago:20270211T115500
DTEND;TZID=America/Chicago:20270211T121000
DTSTAMP:20260425T113707
CREATED:20250828T011426Z
LAST-MODIFIED:20260319T014658Z
UID:1487-1802346900-1802347800@www.mccrearyshospitality.com
SUMMARY:Morton
DESCRIPTION:
URL:https://www.mccrearyshospitality.com/event/morton-77/
CATEGORIES:Catering
END:VEVENT
BEGIN:VEVENT
DTSTART;TZID=America/Chicago:20270218T115500
DTEND;TZID=America/Chicago:20270218T121000
DTSTAMP:20260425T113707
CREATED:20250828T011426Z
LAST-MODIFIED:20260319T014658Z
UID:1488-1802951700-1802952600@www.mccrearyshospitality.com
SUMMARY:Morton
DESCRIPTION:
URL:https://www.mccrearyshospitality.com/event/morton-78/
CATEGORIES:Catering
END:VEVENT
BEGIN:VEVENT
DTSTART;TZID=America/Chicago:20270225T115500
DTEND;TZID=America/Chicago:20270225T121000
DTSTAMP:20260425T113707
CREATED:20250828T011426Z
LAST-MODIFIED:20260319T014658Z
UID:1489-1803556500-1803557400@www.mccrearyshospitality.com
SUMMARY:Morton
DESCRIPTION:
URL:https://www.mccrearyshospitality.com/event/morton-79/
CATEGORIES:Catering
END:VEVENT
BEGIN:VEVENT
DTSTART;TZID=America/Chicago:20270304T115500
DTEND;TZID=America/Chicago:20270304T121000
DTSTAMP:20260425T113707
CREATED:20250828T011427Z
LAST-MODIFIED:20260319T014658Z
UID:1490-1804161300-1804162200@www.mccrearyshospitality.com
SUMMARY:Morton
DESCRIPTION:
URL:https://www.mccrearyshospitality.com/event/morton-80/
CATEGORIES:Catering
END:VEVENT
BEGIN:VEVENT
DTSTART;TZID=America/Chicago:20270311T115500
DTEND;TZID=America/Chicago:20270311T121000
DTSTAMP:20260425T113707
CREATED:20250828T011427Z
LAST-MODIFIED:20260319T014659Z
UID:1491-1804766100-1804767000@www.mccrearyshospitality.com
SUMMARY:Morton
DESCRIPTION:
URL:https://www.mccrearyshospitality.com/event/morton-81/
CATEGORIES:Catering
END:VEVENT
BEGIN:VEVENT
DTSTART;TZID=America/Chicago:20270318T115500
DTEND;TZID=America/Chicago:20270318T121000
DTSTAMP:20260425T113707
CREATED:20250828T011427Z
LAST-MODIFIED:20260319T014659Z
UID:1492-1805370900-1805371800@www.mccrearyshospitality.com
SUMMARY:Morton
DESCRIPTION:
URL:https://www.mccrearyshospitality.com/event/morton-82/
CATEGORIES:Catering
END:VEVENT
BEGIN:VEVENT
DTSTART;TZID=America/Chicago:20270325T115500
DTEND;TZID=America/Chicago:20270325T121000
DTSTAMP:20260425T113707
CREATED:20250828T011427Z
LAST-MODIFIED:20260319T014659Z
UID:1493-1805975700-1805976600@www.mccrearyshospitality.com
SUMMARY:Morton
DESCRIPTION:
URL:https://www.mccrearyshospitality.com/event/morton-83/
CATEGORIES:Catering
END:VEVENT
BEGIN:VEVENT
DTSTART;TZID=America/Chicago:20270401T115500
DTEND;TZID=America/Chicago:20270401T121000
DTSTAMP:20260425T113707
CREATED:20250828T011427Z
LAST-MODIFIED:20260319T014659Z
UID:1494-1806580500-1806581400@www.mccrearyshospitality.com
SUMMARY:Morton
DESCRIPTION:
URL:https://www.mccrearyshospitality.com/event/morton-84/
CATEGORIES:Catering
END:VEVENT
BEGIN:VEVENT
DTSTART;TZID=America/Chicago:20270408T115500
DTEND;TZID=America/Chicago:20270408T121000
DTSTAMP:20260425T113707
CREATED:20250828T011427Z
LAST-MODIFIED:20260319T014659Z
UID:1495-1807185300-1807186200@www.mccrearyshospitality.com
SUMMARY:Morton
DESCRIPTION:
URL:https://www.mccrearyshospitality.com/event/morton-85/
CATEGORIES:Catering
END:VEVENT
BEGIN:VEVENT
DTSTART;TZID=America/Chicago:20270415T115500
DTEND;TZID=America/Chicago:20270415T121000
DTSTAMP:20260425T113707
CREATED:20250828T011428Z
LAST-MODIFIED:20260319T014659Z
UID:1496-1807790100-1807791000@www.mccrearyshospitality.com
SUMMARY:Morton
DESCRIPTION:
URL:https://www.mccrearyshospitality.com/event/morton-86/
CATEGORIES:Catering
END:VEVENT
BEGIN:VEVENT
DTSTART;TZID=America/Chicago:20270422T115500
DTEND;TZID=America/Chicago:20270422T121000
DTSTAMP:20260425T113707
CREATED:20250828T011428Z
LAST-MODIFIED:20260319T014659Z
UID:1497-1808394900-1808395800@www.mccrearyshospitality.com
SUMMARY:Morton
DESCRIPTION:
URL:https://www.mccrearyshospitality.com/event/morton-87/
CATEGORIES:Catering
END:VEVENT
BEGIN:VEVENT
DTSTART;TZID=America/Chicago:20270429T115500
DTEND;TZID=America/Chicago:20270429T121000
DTSTAMP:20260425T113707
CREATED:20250828T011428Z
LAST-MODIFIED:20260319T014659Z
UID:1498-1808999700-1809000600@www.mccrearyshospitality.com
SUMMARY:Morton
DESCRIPTION:
URL:https://www.mccrearyshospitality.com/event/morton-88/
CATEGORIES:Catering
END:VEVENT
BEGIN:VEVENT
DTSTART;TZID=America/Chicago:20270506T115500
DTEND;TZID=America/Chicago:20270506T121000
DTSTAMP:20260425T113707
CREATED:20250828T011428Z
LAST-MODIFIED:20260319T014659Z
UID:1499-1809604500-1809605400@www.mccrearyshospitality.com
SUMMARY:Morton
DESCRIPTION:
URL:https://www.mccrearyshospitality.com/event/morton-89/
CATEGORIES:Catering
END:VEVENT
BEGIN:VEVENT
DTSTART;TZID=America/Chicago:20270513T115500
DTEND;TZID=America/Chicago:20270513T121000
DTSTAMP:20260425T113707
CREATED:20250828T011428Z
LAST-MODIFIED:20260319T014659Z
UID:1500-1810209300-1810210200@www.mccrearyshospitality.com
SUMMARY:Morton
DESCRIPTION:
URL:https://www.mccrearyshospitality.com/event/morton-90/
CATEGORIES:Catering
END:VEVENT
BEGIN:VEVENT
DTSTART;TZID=America/Chicago:20270520T115500
DTEND;TZID=America/Chicago:20270520T121000
DTSTAMP:20260425T113707
CREATED:20250828T011428Z
LAST-MODIFIED:20260319T014659Z
UID:1501-1810814100-1810815000@www.mccrearyshospitality.com
SUMMARY:Morton
DESCRIPTION:
URL:https://www.mccrearyshospitality.com/event/morton-91/
CATEGORIES:Catering
END:VEVENT
BEGIN:VEVENT
DTSTART;TZID=America/Chicago:20270527T115500
DTEND;TZID=America/Chicago:20270527T121000
DTSTAMP:20260425T113707
CREATED:20250828T011428Z
LAST-MODIFIED:20260319T014659Z
UID:1502-1811418900-1811419800@www.mccrearyshospitality.com
SUMMARY:Morton
DESCRIPTION:
URL:https://www.mccrearyshospitality.com/event/morton-92/
CATEGORIES:Catering
END:VEVENT
BEGIN:VEVENT
DTSTART;TZID=America/Chicago:20270603T115500
DTEND;TZID=America/Chicago:20270603T121000
DTSTAMP:20260425T113707
CREATED:20250828T011428Z
LAST-MODIFIED:20260319T014659Z
UID:1503-1812023700-1812024600@www.mccrearyshospitality.com
SUMMARY:Morton
DESCRIPTION:
URL:https://www.mccrearyshospitality.com/event/morton-93/
CATEGORIES:Catering
END:VEVENT
BEGIN:VEVENT
DTSTART;TZID=America/Chicago:20270610T115500
DTEND;TZID=America/Chicago:20270610T121000
DTSTAMP:20260425T113707
CREATED:20250828T011429Z
LAST-MODIFIED:20260319T014659Z
UID:1504-1812628500-1812629400@www.mccrearyshospitality.com
SUMMARY:Morton
DESCRIPTION:
URL:https://www.mccrearyshospitality.com/event/morton-94/
CATEGORIES:Catering
END:VEVENT
END:VCALENDAR