BEGIN:VCALENDAR
VERSION:2.0
PRODID:-//McCreary’s Hospitality - ECPv6.15.20//NONSGML v1.0//EN
CALSCALE:GREGORIAN
METHOD:PUBLISH
X-WR-CALNAME:McCreary’s Hospitality
X-ORIGINAL-URL:https://www.mccrearyshospitality.com
X-WR-CALDESC:Events for McCreary’s Hospitality
REFRESH-INTERVAL;VALUE=DURATION:PT1H
X-Robots-Tag:noindex
X-PUBLISHED-TTL:PT1H
BEGIN:VTIMEZONE
TZID:America/Chicago
BEGIN:DAYLIGHT
TZOFFSETFROM:-0600
TZOFFSETTO:-0500
TZNAME:CDT
DTSTART:20250309T080000
END:DAYLIGHT
BEGIN:STANDARD
TZOFFSETFROM:-0500
TZOFFSETTO:-0600
TZNAME:CST
DTSTART:20251102T070000
END:STANDARD
BEGIN:DAYLIGHT
TZOFFSETFROM:-0600
TZOFFSETTO:-0500
TZNAME:CDT
DTSTART:20260308T080000
END:DAYLIGHT
BEGIN:STANDARD
TZOFFSETFROM:-0500
TZOFFSETTO:-0600
TZNAME:CST
DTSTART:20261101T070000
END:STANDARD
BEGIN:DAYLIGHT
TZOFFSETFROM:-0600
TZOFFSETTO:-0500
TZNAME:CDT
DTSTART:20270314T080000
END:DAYLIGHT
BEGIN:STANDARD
TZOFFSETFROM:-0500
TZOFFSETTO:-0600
TZNAME:CST
DTSTART:20271107T070000
END:STANDARD
END:VTIMEZONE
BEGIN:VEVENT
DTSTART;TZID=America/Chicago:20260604T115500
DTEND;TZID=America/Chicago:20260604T121000
DTSTAMP:20260425T070737
CREATED:20250828T011421Z
LAST-MODIFIED:20260319T014657Z
UID:1451-1780574100-1780575000@www.mccrearyshospitality.com
SUMMARY:Morton
DESCRIPTION:
URL:https://www.mccrearyshospitality.com/event/morton-41/
CATEGORIES:Catering
END:VEVENT
BEGIN:VEVENT
DTSTART;TZID=America/Chicago:20260611T115500
DTEND;TZID=America/Chicago:20260611T121000
DTSTAMP:20260425T070737
CREATED:20250828T011422Z
LAST-MODIFIED:20260319T014657Z
UID:1452-1781178900-1781179800@www.mccrearyshospitality.com
SUMMARY:Morton
DESCRIPTION:
URL:https://www.mccrearyshospitality.com/event/morton-42/
CATEGORIES:Catering
END:VEVENT
BEGIN:VEVENT
DTSTART;TZID=America/Chicago:20260618T115500
DTEND;TZID=America/Chicago:20260618T121000
DTSTAMP:20260425T070737
CREATED:20250828T011422Z
LAST-MODIFIED:20260319T014657Z
UID:1453-1781783700-1781784600@www.mccrearyshospitality.com
SUMMARY:Morton
DESCRIPTION:
URL:https://www.mccrearyshospitality.com/event/morton-43/
CATEGORIES:Catering
END:VEVENT
BEGIN:VEVENT
DTSTART;TZID=America/Chicago:20260625T115500
DTEND;TZID=America/Chicago:20260625T121000
DTSTAMP:20260425T070737
CREATED:20250828T011422Z
LAST-MODIFIED:20260319T014657Z
UID:1454-1782388500-1782389400@www.mccrearyshospitality.com
SUMMARY:Morton
DESCRIPTION:
URL:https://www.mccrearyshospitality.com/event/morton-44/
CATEGORIES:Catering
END:VEVENT
END:VCALENDAR